BEGIN:VCALENDAR
VERSION:2.0
PRODID:-//Squarespace Inc/Squarespace 6//v6//EN
BEGIN:VEVENT
UID:5c3efd0170a6ad43e3e706a2@squarespace.com
DTSTAMP:20190116T095450Z
DTSTART:20190214T073000Z
DTEND:20190214T113000Z
SUMMARY:Valentine's Day Dinner
END:VEVENT
END:VCALENDAR
