BEGIN:VCALENDAR
VERSION:2.0
PRODID:-//Squarespace Inc/Squarespace 6//v6//EN
BEGIN:VEVENT
UID:5dd10e396be9a958a6e32783@squarespace.com
DTSTAMP:20191117T091607Z
DTSTART:20191220T073000Z
DTEND:20191220T120000Z
SUMMARY:Spanish Tapas Night + LIVE music
END:VEVENT
END:VCALENDAR
