BEGIN:VCALENDAR
VERSION:2.0
PRODID:-//Squarespace Inc/Squarespace 6//v6//EN
BEGIN:VEVENT
UID:5d75fe28db0dbe3fe4dd8877@squarespace.com
DTSTAMP:20191117T090913Z
DTSTART:20190920T073000Z
DTEND:20190920T120000Z
SUMMARY:Spanish Tapas Night + LIVE music
END:VEVENT
END:VCALENDAR
