BEGIN:VCALENDAR
VERSION:2.0
PRODID:-//Squarespace Inc/Squarespace 6//v6//EN
BEGIN:VEVENT
UID:5b4dc29e03ce64a718d02a2d@squarespace.com
DTSTAMP:20180925T093241Z
DTSTART:20180804T073000Z
DTEND:20180804T120000Z
SUMMARY:Tapas Night
END:VEVENT
END:VCALENDAR
