BEGIN:VCALENDAR
VERSION:2.0
PRODID:-//Squarespace Inc/Squarespace 6//v6//EN
BEGIN:VEVENT
UID:5e48c803ac722716383a9f4e@squarespace.com
DTSTAMP:20200216T044918Z
DTSTART:20200306T073000Z
DTEND:20200306T120000Z
SUMMARY:Spanish Tapas Night + LIVE music
END:VEVENT
END:VCALENDAR
