BEGIN:VCALENDAR
VERSION:2.0
PRODID:-//Squarespace Inc/Squarespace 6//v6//EN
BEGIN:VEVENT
UID:5ba9f6e2652deac39f37a6ac@squarespace.com
DTSTAMP:20190909T072424Z
DTSTART:20181005T073000Z
DTEND:20181005T120000Z
SUMMARY:Tapas Night
END:VEVENT
END:VCALENDAR
