BEGIN:VCALENDAR
VERSION:2.0
PRODID:-//Squarespace Inc/Squarespace 6//v6//EN
BEGIN:VEVENT
UID:5dcbac6f88d63a3392f582fb@squarespace.com
DTSTAMP:20191117T090119Z
DTSTART:20191207T073000Z
DTEND:20191207T120000Z
SUMMARY:"Summer Fling" Australian Dinner + LIVE Music
GEO:-27.402213;153.059856
LOCATION:Nundah Corner Cafe
END:VEVENT
END:VCALENDAR
