BEGIN:VCALENDAR
VERSION:2.0
PRODID:-//Squarespace Inc/Squarespace 6//v6//EN
BEGIN:VEVENT
UID:5d4554e382811800014e7916@squarespace.com
DTSTAMP:20191112T082519Z
DTSTART:20190816T073000Z
DTEND:20190816T120000Z
SUMMARY:Midwinter Seafood Night
END:VEVENT
END:VCALENDAR
