BEGIN:VCALENDAR
VERSION:2.0
PRODID:-//Squarespace Inc/Squarespace 6//v6//EN
BEGIN:VEVENT
UID:5dca6b28d875dd2590912ee6@squarespace.com
DTSTAMP:20191121T080245Z
DTSTART:20191130T073000Z
DTEND:20191130T120000Z
SUMMARY:Seafood Night + LIVE Music
GEO:-27.402213;153.059856
LOCATION:Nundah Corner Cafe
END:VEVENT
END:VCALENDAR
