BEGIN:VCALENDAR
VERSION:2.0
PRODID:-//Squarespace Inc/Squarespace 6//v6//EN
BEGIN:VEVENT
UID:5b30b7f3758d46fa66141076@squarespace.com
DTSTAMP:20190803T093811Z
DTSTART:20180706T073000Z
DTEND:20180706T120000Z
SUMMARY:Midwinter Seafood Night
END:VEVENT
END:VCALENDAR
