BEGIN:VCALENDAR
VERSION:2.0
PRODID:-//Squarespace Inc/Squarespace 6//v6//EN
BEGIN:VEVENT
UID:5d56318a239e26000178d2e0@squarespace.com
DTSTAMP:20190819T115809Z
DTSTART:20190831T070000Z
DTEND:20190831T113000Z
SUMMARY:Italian Pasta Night + Live Music
GEO:-27.402213;153.059856
LOCATION:Nundah Corner Cafe\, 1208 Sandgate Road\, Nundah\, Australia
END:VEVENT
END:VCALENDAR
