BEGIN:VCALENDAR
VERSION:2.0
PRODID:-//Squarespace Inc/Squarespace 6//v6//EN
BEGIN:VEVENT
UID:5cc282b0e5005f00011233d4@squarespace.com
DTSTAMP:20190426T044555Z
DTSTART:20190511T210000Z
DTEND:20190512T050000Z
SUMMARY:Mothers Day at Nundah Corner
GEO:-27.402213;153.059856
LOCATION:Nundah Corner Cafe\, 1208 Sandgate Road\, Nundah\, Queensland
END:VEVENT
END:VCALENDAR
