BEGIN:VCALENDAR
VERSION:2.0
PRODID:-//Squarespace Inc/Squarespace 6//v6//EN
BEGIN:VEVENT
UID:5dc9227080e6ab4d1136bce6@squarespace.com
DTSTAMP:20191118T062859Z
DTSTART:20191122T073000Z
DTEND:20191122T120000Z
SUMMARY:Noches de Mexico + LIVE Music
GEO:-27.402213;153.059856
LOCATION:Nundah Corner Cafe
END:VEVENT
END:VCALENDAR
