BEGIN:VCALENDAR
VERSION:2.0
PRODID:-//Squarespace Inc/Squarespace 6//v6//EN
BEGIN:VEVENT
UID:5e2e85da9e79e43c690dc17f@squarespace.com
DTSTAMP:20200210T103819Z
DTSTART:20200207T073000Z
DTEND:20200207T120000Z
SUMMARY:Italian Night + LIVE Music
GEO:-27.402213;153.059856
LOCATION:Nundah Corner Cafe
END:VEVENT
END:VCALENDAR
