BEGIN:VCALENDAR
VERSION:2.0
PRODID:-//Squarespace Inc/Squarespace 6//v6//EN
BEGIN:VEVENT
UID:5dd10c5f48fc0223598b2963@squarespace.com
DTSTAMP:20200127T064055Z
DTSTART:20191214T073000Z
DTEND:20191214T120000Z
SUMMARY:Italian Night + LIVE Music
GEO:-27.402213;153.059856
LOCATION:Nundah Corner Cafe
END:VEVENT
END:VCALENDAR
