BEGIN:VCALENDAR
VERSION:2.0
PRODID:-//Squarespace Inc/Squarespace 6//v6//EN
BEGIN:VEVENT
UID:5d8890a451c4a724dc06fa48@squarespace.com
DTSTAMP:20200112T071644Z
DTSTART:20191018T073000Z
DTEND:20191018T120000Z
SUMMARY:Himalaya Night + LIVE Music
GEO:-27.402213;153.059856
LOCATION:Nundah Corner Cafe
END:VEVENT
END:VCALENDAR
