BEGIN:VCALENDAR
VERSION:2.0
PRODID:-//Squarespace Inc/Squarespace 6//v6//EN
BEGIN:VEVENT
UID:5e1ac7e551f223209a23862e@squarespace.com
DTSTAMP:20200121T041238Z
DTSTART:20200124T073000Z
DTEND:20200124T120000Z
SUMMARY:Himalaya Night + LIVE Music
GEO:-27.402213;153.059856
LOCATION:Nundah Corner Cafe
END:VEVENT
END:VCALENDAR
