BEGIN:VCALENDAR
VERSION:2.0
PRODID:-//Squarespace Inc/Squarespace 6//v6//EN
BEGIN:VEVENT
UID:5bce974da4222f17bfa99b1a@squarespace.com
DTSTAMP:20190923T093012Z
DTSTART:20181103T073000Z
DTEND:20181103T120000Z
SUMMARY:Himalaya Night
END:VEVENT
END:VCALENDAR
