BEGIN:VCALENDAR
VERSION:2.0
PRODID:-//Squarespace Inc/Squarespace 6//v6//EN
BEGIN:VEVENT
UID:5e41329b2c1d2d736856228b@squarespace.com
DTSTAMP:20200210T104507Z
DTSTART:20200221T073000Z
DTEND:20200221T120000Z
SUMMARY:Greek Night + LIVE Music
GEO:-27.402213;153.059856
LOCATION:Nundah Corner Cafe
END:VEVENT
END:VCALENDAR
