BEGIN:VCALENDAR
VERSION:2.0
PRODID:-//Squarespace Inc/Squarespace 6//v6//EN
BEGIN:VEVENT
UID:5d7aedeaf736e5139f3f285f@squarespace.com
DTSTAMP:20200210T103715Z
DTSTART:20191004T073000Z
DTEND:20191004T120000Z
SUMMARY:Greek Night + LIVE Music
GEO:-27.402213;153.059856
LOCATION:Nundah Corner Cafe\, 1208 Sandgate Road\, Nundah\, Australia
END:VEVENT
END:VCALENDAR
