BEGIN:VCALENDAR
VERSION:2.0
PRODID:-//Squarespace Inc/Squarespace 6//v6//EN
BEGIN:VEVENT
UID:5cd40d568165f5264435ebb8@squarespace.com
DTSTAMP:20190913T011640Z
DTSTART:20190531T073000Z
DTEND:20190531T120000Z
SUMMARY:Greek Night! Friday 31 May
GEO:-27.402213;153.059856
LOCATION:Nundah Corner Cafe\, 1208 Sandgate Road\, Nundah\, Australia
END:VEVENT
END:VCALENDAR
