BEGIN:VCALENDAR
VERSION:2.0
PRODID:-//Squarespace Inc/Squarespace 6//v6//EN
BEGIN:VEVENT
UID:5da7bb0425df3e1b73e56403@squarespace.com
DTSTAMP:20191111T085720Z
DTSTART:20191108T073000Z
DTEND:20191108T120000Z
SUMMARY:French Feast Charity Dinner + LIVE Music
GEO:-27.402213;153.059856
LOCATION:Nundah Corner Cafe
END:VEVENT
END:VCALENDAR
