BEGIN:VCALENDAR
VERSION:2.0
PRODID:-//Squarespace Inc/Squarespace 6//v6//EN
BEGIN:VEVENT
UID:5d47f1298e36c600015f676d@squarespace.com
DTSTAMP:20190826T065912Z
DTSTART:20190831T210000Z
DTEND:20190901T050000Z
SUMMARY:Fathers Day at Nundah Corner
END:VEVENT
END:VCALENDAR
