BEGIN:VCALENDAR
VERSION:2.0
PRODID:-//Squarespace Inc/Squarespace 6//v6//EN
BEGIN:VEVENT
UID:5b6120838a922da9ef6ca2a3@squarespace.com
DTSTAMP:20190805T090659Z
DTSTART:20180901T210000Z
DTEND:20180902T050000Z
SUMMARY:Fathers Day at Nundah Corner
END:VEVENT
END:VCALENDAR
