BEGIN:VCALENDAR
VERSION:2.0
PRODID:-//Squarespace Inc/Squarespace 6//v6//EN
BEGIN:VEVENT
UID:5d7ae9f6f9934c2ba55db08a@squarespace.com
DTSTAMP:20190913T011540Z
DTSTART:20191010T083000Z
DTEND:20191010T103000Z
SUMMARY:Building Connected and Resilient Kids - Dinner and Dialogue
GEO:-27.402213;153.059856
LOCATION:Nundah Corner Cafe
END:VEVENT
END:VCALENDAR
