BEGIN:VCALENDAR
VERSION:2.0
PRODID:-//Squarespace Inc/Squarespace 6//v6//EN
BEGIN:VEVENT
UID:5d300ac7465cd9000184a275@squarespace.com
DTSTAMP:20190718T070833Z
DTSTART:20190727T073000Z
DTEND:20190727T120000Z
SUMMARY:Christmas in July
GEO:-27.402213;153.059856
LOCATION:Nundah Corner Cafe\, 1208 Sandgate Road\, Nundah\, Australia
END:VEVENT
END:VCALENDAR
