BEGIN:VCALENDAR
VERSION:2.0
PRODID:-//Squarespace Inc/Squarespace 6//v6//EN
BEGIN:VEVENT
UID:5e05ca2f5a9a212b914a7225@squarespace.com
DTSTAMP:20191228T095851Z
DTSTART:20200110T073000Z
DTEND:20200110T120000Z
SUMMARY:Brazilian Banquet + LIVE Music
END:VEVENT
END:VCALENDAR
