BEGIN:VCALENDAR
VERSION:2.0
PRODID:-//Squarespace Inc/Squarespace 6//v6//EN
BEGIN:VEVENT
UID:5ca599d74785d3cb7fc4fc8b@squarespace.com
DTSTAMP:20190816T043105Z
DTSTART:20190412T073000Z
DTEND:20190412T120000Z
SUMMARY:Nundah Corner Turns Two! Italian Night Dinner
GEO:-27.402213;153.059856
LOCATION:Nundah Corner Cafe\, 1208 Sandgate Road\, Nundah\, Australia
END:VEVENT
END:VCALENDAR
